BEGIN:VCALENDAR
VERSION:2.0
PRODID:-//Hawaiian Lodge F&amp;AM - ECPv6.15.14//NONSGML v1.0//EN
CALSCALE:GREGORIAN
METHOD:PUBLISH
X-WR-CALNAME:Hawaiian Lodge F&amp;AM
X-ORIGINAL-URL:https://hawaiianlodgefreemasons.org
X-WR-CALDESC:Events for Hawaiian Lodge F&amp;AM
REFRESH-INTERVAL;VALUE=DURATION:PT1H
X-Robots-Tag:noindex
X-PUBLISHED-TTL:PT1H
BEGIN:VTIMEZONE
TZID:UTC
BEGIN:STANDARD
TZOFFSETFROM:+0000
TZOFFSETTO:+0000
TZNAME:UTC
DTSTART:20250101T000000
END:STANDARD
END:VTIMEZONE
BEGIN:VEVENT
DTSTART;TZID=UTC:20260207T050000
DTEND;TZID=UTC:20260207T213000
DTSTAMP:20260424T185038
CREATED:20260115T013954Z
LAST-MODIFIED:20260122T211837Z
UID:314-1770440400-1770499800@hawaiianlodgefreemasons.org
SUMMARY:Sweethearts' Ball
DESCRIPTION:HAWAIIAN LODGE SWEETHEARTS’ BALL\nSATURDAY\, FEBRUARY 10\, 2024\nOahu Country Club\n150 Country Club Rd\, Honolulu\, HI 96817\nCheck-in 6:00pm Dinner 7:00pm\nSemi-formal evening attire\nMen (e.g.\, sport coat & slacks\, tie optional)\nWomen (e.g.\, cocktail dress\, dressy pants)\nNo charge for members in good standing & 1 guest\nNo charge for widows & 1 guest \nRESERVATIONS REQUIRED by depositing\n$120.00 for each reservation. Payment by check only\n(will be returned at registration table); no show\, no\nrefund. \nWIDOWS need not make a deposit\, but must make\nreservations by mail\, email or phone (contact info\nbelow). \nMembers/widows may invite additional guests by paying $100 per person by SEPARATE non-refundable check.\nMake all checks payable to “Hawaiian Lodge” and mail to:\nHawaiian Lodge (Attn. Jr. Warden)\, PO Box 22645\, Honolulu\, HI 96823\nDEADLINE: Reservations must be received by Tuesday\, January 30\, 20
URL:https://hawaiianlodgefreemasons.org/event/sweet-hearts-ball/
LOCATION:Oahu Country Club\, 150 Country Club Rd\, honolulu\, 96817\, United States
ORGANIZER;CN="Gino Soquena":MAILTO:gsoquena@gmail.com
END:VEVENT
END:VCALENDAR